BEGIN:VCALENDAR
VERSION:2.0
PRODID:-//The National Center for Victims of Crime - ECPv5.6.0//NONSGML v1.0//EN
CALSCALE:GREGORIAN
METHOD:PUBLISH
X-WR-CALNAME:The National Center for Victims of Crime
X-ORIGINAL-URL:https://victimsofcrime.org
X-WR-CALDESC:Events for The National Center for Victims of Crime
BEGIN:VTIMEZONE
TZID:America/New_York
BEGIN:DAYLIGHT
TZOFFSETFROM:-0500
TZOFFSETTO:-0400
TZNAME:EDT
DTSTART:20210314T070000
END:DAYLIGHT
BEGIN:STANDARD
TZOFFSETFROM:-0400
TZOFFSETTO:-0500
TZNAME:EST
DTSTART:20211107T060000
END:STANDARD
END:VTIMEZONE
BEGIN:VEVENT
DTSTART;TZID=America/New_York:20210512T110000
DTEND;TZID=America/New_York:20210512T120000
DTSTAMP:20210525T114752
CREATED:20210310T160544Z
LAST-MODIFIED:20210310T160544Z
UID:4000-1620817200-1620820800@victimsofcrime.org
SUMMARY:Domestic and Sexual Violence Webinar Series: Elder Abuse\, Neglect\, and Exploitation
DESCRIPTION:More information here  March 8-June 11\, 2021 Upcoming Events Revised
URL:https://victimsofcrime.org/event/domestic-and-sexual-violence-webinar-series-elder-abuse-neglect-and-exploitation/
END:VEVENT
END:VCALENDAR