BEGIN:VCALENDAR
VERSION:2.0
PRODID:-//The National Center for Victims of Crime - ECPv5.6.0//NONSGML v1.0//EN
CALSCALE:GREGORIAN
METHOD:PUBLISH
X-WR-CALNAME:The National Center for Victims of Crime
X-ORIGINAL-URL:https://victimsofcrime.org
X-WR-CALDESC:Events for The National Center for Victims of Crime
BEGIN:VTIMEZONE
TZID:America/New_York
BEGIN:DAYLIGHT
TZOFFSETFROM:-0500
TZOFFSETTO:-0400
TZNAME:EDT
DTSTART:20210314T070000
END:DAYLIGHT
BEGIN:STANDARD
TZOFFSETFROM:-0400
TZOFFSETTO:-0500
TZNAME:EST
DTSTART:20211107T060000
END:STANDARD
END:VTIMEZONE
BEGIN:VEVENT
DTSTART;VALUE=DATE:20210505
DTEND;VALUE=DATE:20210506
DTSTAMP:20210525T114159
CREATED:20210503T142455Z
LAST-MODIFIED:20210503T142455Z
UID:4873-1620172800-1620259199@victimsofcrime.org
SUMMARY:National Day of Awareness for Missing & Murdered Indigenous Women & Girls
DESCRIPTION:Since 2017\, actions on May 5th to honor missing and murdered Indigenous women and girls (MMIWG) at the local\, regional\, and national level continue to grow across the United States and internationally. These efforts are as varied as the Indian Nations and Indigenous communities where they are being organized. The silence\, tolerance\, and inaction in response to the crisis of MMIWG is being challenged by Native families\, advocates\, and Indian tribes. \nIn 2021\, a full week of national events will call the nation and the world to action to honor missing and murdered Indigenous women and girls. We invite all those concerned to join these events\, and we support your efforts to organize events during the National Week of Action and on May 5th\, the National Day of Awareness. \nThis year can mark the year the government’s “no action response” is changed to a “yes\, crisis-mode response.”
URL:https://victimsofcrime.org/event/national-day-of-awareness-for-missing-murdered-indigenous-women-girls/
END:VEVENT
END:VCALENDAR