BEGIN:VCALENDAR
VERSION:2.0
PRODID:-//The National Center for Victims of Crime - ECPv5.6.0//NONSGML v1.0//EN
CALSCALE:GREGORIAN
METHOD:PUBLISH
X-WR-CALNAME:The National Center for Victims of Crime
X-ORIGINAL-URL:https://victimsofcrime.org
X-WR-CALDESC:Events for The National Center for Victims of Crime
BEGIN:VTIMEZONE
TZID:America/New_York
BEGIN:DAYLIGHT
TZOFFSETFROM:-0500
TZOFFSETTO:-0400
TZNAME:EDT
DTSTART:20210314T070000
END:DAYLIGHT
BEGIN:STANDARD
TZOFFSETFROM:-0400
TZOFFSETTO:-0500
TZNAME:EST
DTSTART:20211107T060000
END:STANDARD
END:VTIMEZONE
BEGIN:VEVENT
DTSTART;VALUE=DATE:20210525
DTEND;VALUE=DATE:20210526
DTSTAMP:20210525T121421
CREATED:20210129T164543Z
LAST-MODIFIED:20210129T164543Z
UID:3294-1621900800-1621987199@victimsofcrime.org
SUMMARY:National Missing Children's Day
DESCRIPTION:National Missing Children’s Day
URL:https://victimsofcrime.org/event/national-missing-childrens-day-2/
END:VEVENT
END:VCALENDAR