BEGIN:VCALENDAR
VERSION:2.0
PRODID:-//The National Center for Victims of Crime - ECPv5.6.0//NONSGML v1.0//EN
CALSCALE:GREGORIAN
METHOD:PUBLISH
X-WR-CALNAME:The National Center for Victims of Crime
X-ORIGINAL-URL:https://victimsofcrime.org
X-WR-CALDESC:Events for The National Center for Victims of Crime
BEGIN:VTIMEZONE
TZID:America/New_York
BEGIN:DAYLIGHT
TZOFFSETFROM:-0500
TZOFFSETTO:-0400
TZNAME:EDT
DTSTART:20210314T070000
END:DAYLIGHT
BEGIN:STANDARD
TZOFFSETFROM:-0400
TZOFFSETTO:-0500
TZNAME:EST
DTSTART:20211107T060000
END:STANDARD
END:VTIMEZONE
BEGIN:VEVENT
DTSTART;TZID=America/New_York:20210511T150000
DTEND;TZID=America/New_York:20210511T163000
DTSTAMP:20210525T114724
CREATED:20210503T185256Z
LAST-MODIFIED:20210503T185327Z
UID:4893-1620745200-1620750600@victimsofcrime.org
SUMMARY:Pet Friendly Domestic Violence Shelters: Creating a pet-friendly program that works for your community
DESCRIPTION:Tue\, May 11th\, 2021 3:00 PM – 4:15 PM ET \nAre you ready to take a deeper dive and learn how to create a program to help domestic violence survivors and their pets find safety and healing together? This webinar will focus on overcoming barriers to creating pet-friendly programs by focusing on collaboration and thoughtful program planning. We’ll discuss fundraising\, construction\, and policies and procedures for both on-site and off-site programs\, and attendees will leave with concrete next steps. This webinar is intended for domestic violence and animal shelter representatives\, veterinarians\, and anyone else interested in supporting a pet-friendly program in their community. \nRegister here \n 
URL:https://victimsofcrime.org/event/pet-friendly-domestic-violence-shelters-creating-a-pet-friendly-program-that-works-for-your-community/
END:VEVENT
END:VCALENDAR