BEGIN:VCALENDAR
VERSION:2.0
PRODID:-//The National Center for Victims of Crime - ECPv5.6.0//NONSGML v1.0//EN
CALSCALE:GREGORIAN
METHOD:PUBLISH
X-WR-CALNAME:The National Center for Victims of Crime
X-ORIGINAL-URL:https://victimsofcrime.org
X-WR-CALDESC:Events for The National Center for Victims of Crime
BEGIN:VTIMEZONE
TZID:America/New_York
BEGIN:DAYLIGHT
TZOFFSETFROM:-0500
TZOFFSETTO:-0400
TZNAME:EDT
DTSTART:20210314T070000
END:DAYLIGHT
BEGIN:STANDARD
TZOFFSETFROM:-0400
TZOFFSETTO:-0500
TZNAME:EST
DTSTART:20211107T060000
END:STANDARD
END:VTIMEZONE
BEGIN:VEVENT
DTSTART;TZID=America/New_York:20210505T080000
DTEND;TZID=America/New_York:20210505T170000
DTSTAMP:20210525T114236
CREATED:20210503T144849Z
LAST-MODIFIED:20210503T144849Z
UID:4884-1620201600-1620234000@victimsofcrime.org
SUMMARY:Running for Justice: Remembering Missing and Murdered Indigenous Relatives Virtual 5k\, 10k & Half Marathon
DESCRIPTION:Hosted by Rising Hearts (May 5-9) | Register
URL:https://victimsofcrime.org/event/running-for-justice-remembering-missing-and-murdered-indigenous-relatives-virtual-5k-10k-half-marathon/
END:VEVENT
END:VCALENDAR