BEGIN:VCALENDAR
VERSION:2.0
PRODID:-//The National Center for Victims of Crime - ECPv5.6.0//NONSGML v1.0//EN
CALSCALE:GREGORIAN
METHOD:PUBLISH
X-WR-CALNAME:The National Center for Victims of Crime
X-ORIGINAL-URL:https://victimsofcrime.org
X-WR-CALDESC:Events for The National Center for Victims of Crime
BEGIN:VTIMEZONE
TZID:America/New_York
BEGIN:DAYLIGHT
TZOFFSETFROM:-0500
TZOFFSETTO:-0400
TZNAME:EDT
DTSTART:20210314T070000
END:DAYLIGHT
BEGIN:STANDARD
TZOFFSETFROM:-0400
TZOFFSETTO:-0500
TZNAME:EST
DTSTART:20211107T060000
END:STANDARD
END:VTIMEZONE
BEGIN:VEVENT
DTSTART;TZID=America/New_York:20210510T130000
DTEND;TZID=America/New_York:20210510T140000
DTSTAMP:20210525T114617
CREATED:20210506T163805Z
LAST-MODIFIED:20210506T163805Z
UID:4911-1620651600-1620655200@victimsofcrime.org
SUMMARY:Webinar: The Empathetic Workplace: Five Steps to a Compassionate\, Calm\, and Confident Response to Trauma on the Job
DESCRIPTION:Monday\, May 10\, 2021 10:00am PT / 1:00pm ET\n\nWe are facing unprecedented challenges as our nation confronts a pandemic\, a racial reckoning\, and economic and political turmoil simultaneously. Rates of anxiety and depression have tripled; meanwhile\, communication skills are dwindling. The way we support each other through this challenging time will have lasting effects. When we respond well to those in trauma\, we build strong bonds of trust and enhance communication.\n\nKatharine Manning is the author of The Empathetic Workplace: Five Steps to a Compassionate\, Calm\, and Confident Response to Trauma on the Job. She’s also an attorney with more than 25 years’ experience on issues of trauma and victimization\, including 15 years as the Justice Department’s Senior Attorney Advisor on victim rights. In this session\, she will provide an understanding of the prevalence of trauma and its effect on both the person in trauma and those interacting with him or her\, then gives practical advice on how to support those in trauma while protecting yourself from compassion fatigue and not running afoul of legal obligations.\n\nRegister here 
URL:https://victimsofcrime.org/event/webinar-the-empathetic-workplace-five-steps-to-a-compassionate-calm-and-confident-response-to-trauma-on-the-job/
END:VEVENT
END:VCALENDAR