BEGIN:VCALENDAR
VERSION:2.0
PRODID:-//The National Center for Victims of Crime - ECPv5.6.0//NONSGML v1.0//EN
CALSCALE:GREGORIAN
METHOD:PUBLISH
X-WR-CALNAME:The National Center for Victims of Crime
X-ORIGINAL-URL:https://victimsofcrime.org
X-WR-CALDESC:Events for The National Center for Victims of Crime
BEGIN:VTIMEZONE
TZID:America/New_York
BEGIN:DAYLIGHT
TZOFFSETFROM:-0500
TZOFFSETTO:-0400
TZNAME:EDT
DTSTART:20210314T070000
END:DAYLIGHT
BEGIN:STANDARD
TZOFFSETFROM:-0400
TZOFFSETTO:-0500
TZNAME:EST
DTSTART:20211107T060000
END:STANDARD
END:VTIMEZONE
BEGIN:VEVENT
DTSTART;VALUE=DATE:20210615
DTEND;VALUE=DATE:20210616
DTSTAMP:20210615T032041
CREATED:20210201T170544Z
LAST-MODIFIED:20210201T170544Z
UID:3344-1623715200-1623801599@victimsofcrime.org
SUMMARY:World Elder Abuse Awareness Day
DESCRIPTION:World Elder Abuse Awareness Day
URL:https://victimsofcrime.org/event/world-elder-abuse-awareness-day-4/
END:VEVENT
BEGIN:VEVENT
DTSTART;TZID=America/New_York:20210615T140000
DTEND;TZID=America/New_York:20210615T160000
DTSTAMP:20210615T032041
CREATED:20210526T195013Z
LAST-MODIFIED:20210526T195013Z
UID:5116-1623765600-1623772800@victimsofcrime.org
SUMMARY:OVW Youth Sex Trafficking Learning Collaborative  “Putting Strategy Into Practice”: The Learning Collaborative Intervention Level
DESCRIPTION:June 8\, June 15\, and June 22 – 2:00pm to 4:00pm ET \nThe Intervention Level training is for those individuals who provide youth with ongoing trauma-informed and survivor-centered care. Individuals in the Intervention Level may work with youth in high-risk situations; in a group home setting\, with homeless or runaway youth\, by providing abuse or trauma services\, or by providing psychosocial education. \nFor individuals in these roles who may work with youth who have experienced sex trafficking or who are at risk for experiencing sex trafficking\, it is important to determine if the youth is in imminent danger and to develop comprehensive safety plans and make appropriate referrals. \nThis series of webinars will provide an overview of the screening tool for youth sex trafficking and steps for creating a safety plan. We will explore how to respond during a crisis\, methods for engaging youth who may be\, or may be at risk for being\, trafficked\, mandated reporting\, and focus on safety planning and making appropriate referrals. \nLearning Objectives: \n\nParticipants will be able to identify the steps in the safety PLAN\nParticipants will be able to identify 3 organizations to which they can make appropriate referrals
URL:https://victimsofcrime.org/event/ovw-youth-sex-trafficking-learning-collaborative-putting-strategy-into-practice-the-learning-collaborative-intervention-level/2021-06-15/
END:VEVENT
END:VCALENDAR